BEGIN:VCALENDAR
VERSION:2.0
PRODID:-//Imkerverein Dinkelscherben-Zusmarshausen - ECPv6.15.20//NONSGML v1.0//EN
CALSCALE:GREGORIAN
METHOD:PUBLISH
X-WR-CALNAME:Imkerverein Dinkelscherben-Zusmarshausen
X-ORIGINAL-URL:https://imker-dinkel-zus.de
X-WR-CALDESC:Veranstaltungen für Imkerverein Dinkelscherben-Zusmarshausen
REFRESH-INTERVAL;VALUE=DURATION:PT1H
X-Robots-Tag:noindex
X-PUBLISHED-TTL:PT1H
BEGIN:VTIMEZONE
TZID:UTC
BEGIN:STANDARD
TZOFFSETFROM:+0000
TZOFFSETTO:+0000
TZNAME:UTC
DTSTART:20240101T000000
END:STANDARD
END:VTIMEZONE
BEGIN:VEVENT
DTSTART;TZID=UTC:20250507T180000
DTEND;TZID=UTC:20250507T190000
DTSTAMP:20260421T220611
CREATED:20250318T081028Z
LAST-MODIFIED:20250318T081028Z
UID:453-1746640800-1746644400@imker-dinkel-zus.de
SUMMARY:Imkerstammtisch 05/2025
DESCRIPTION:
URL:https://imker-dinkel-zus.de/event/imkerstammtisch-05-2025/
LOCATION:Vereinsheim der Imker\, Wertinger Str. 12\, Zusmarshausen\, 86441
END:VEVENT
BEGIN:VEVENT
DTSTART;TZID=UTC:20250525T143000
DTEND;TZID=UTC:20250525T160000
DTSTAMP:20260421T220611
CREATED:20240512T113737Z
LAST-MODIFIED:20250424T080029Z
UID:384-1748183400-1748188800@imker-dinkel-zus.de
SUMMARY:Schnupperkurs Bienenhaltung - Einblick in die Welt der Bienen und der Imkerei
DESCRIPTION:Ein Bienenvolk ist Faszination pur! Mit seiner Bestäubungsleistung trägt es zu einem funktionierenden Ökosystem bei. Die Tätigkeiten des Imkers stehen in engem Zusammenhang mit der Entwicklung eines Bienenvolkes. Alle\, die sich für die Honigbiene und deren Haltung interessieren\, sind herzlich zu dieser Einführungsveranstaltung eingeladen. \nTreffpunkt: Vereinsheim der Imker\, Wertinger Str. 12\, 86441 Zusmarshausen\nDauer: ca. 1\,5 Std.\nKosten: Die Teilnahme ist kostenlos.\nAnmeldung/Veranstalter: Imkerverein Dinkelscherben-Zusmarshausen e.V.\, Anmeldung erforderlich unter leopoldtobias@hotmail.com \n  \nhttps://real-west.de/aktuelles/termine?view=article&id=284:kalender-veranstaltung-82&catid=15:kalender
URL:https://imker-dinkel-zus.de/event/schnupperkurs-bienenhaltung-einblick-in-die-welt-der-bienen-und-der-imkerei/
LOCATION:Vereinsheim der Imker\, Wertinger Str. 12\, Zusmarshausen\, 86441
END:VEVENT
END:VCALENDAR