BEGIN:VCALENDAR
VERSION:2.0
PRODID:-//Imkerverein Dinkelscherben-Zusmarshausen - ECPv6.15.20//NONSGML v1.0//EN
CALSCALE:GREGORIAN
METHOD:PUBLISH
X-ORIGINAL-URL:https://imker-dinkel-zus.de
X-WR-CALDESC:Veranstaltungen für Imkerverein Dinkelscherben-Zusmarshausen
REFRESH-INTERVAL;VALUE=DURATION:PT1H
X-Robots-Tag:noindex
X-PUBLISHED-TTL:PT1H
BEGIN:VTIMEZONE
TZID:UTC
BEGIN:STANDARD
TZOFFSETFROM:+0000
TZOFFSETTO:+0000
TZNAME:UTC
DTSTART:20230101T000000
END:STANDARD
END:VTIMEZONE
BEGIN:VEVENT
DTSTART;TZID=UTC:20241201T140000
DTEND;TZID=UTC:20241201T163000
DTSTAMP:20260422T075913
CREATED:20240512T114909Z
LAST-MODIFIED:20241114T063233Z
UID:400-1733061600-1733070600@imker-dinkel-zus.de
SUMMARY:Herbstversammlung 2024
DESCRIPTION:Die Herbstversammlung des Imkervereins Dinkelscherben-Zusmarshausen e.V. findet am 01.12.24 ab 14:00 Uhr im Pfarrzentrum Dinkelscherben statt. \nAdresse: Auer Kirchweg 2\, 86424 Dinkelscherben \n  \nTagesordnung \n\nBegrüßung\nVortrag von Bienenfachberater Johann Fischer: „Herausforderung Melezitosehonig und Aktuelles zur Varroabehandlung“\n\n  \nHinweise: \n\nDer Imkerverein wird zu Beginn des Jahres 2025 wieder einen Einsteigerkurs “Imker auf Probe” durchführen. Interessierte sind herzlich zur Herbstversammlung sowie zur Probeimker-Infoveranstaltung am 20.11.24 eigeladen.\nAuch alle interessierten Nichtvereinsmitglieder sind herzlich zur Herbstversammlung eingeladen.\n\n  \nDie Vorstandschaft
URL:https://imker-dinkel-zus.de/event/herbstversammlung-2024/
LOCATION:Pfarrzentrum Dinkelscherben\, Auer Kirchweg 2\, Dinkelscherben\, Deutschland
END:VEVENT
END:VCALENDAR