BEGIN:VCALENDAR
VERSION:2.0
PRODID:-//Imkerverein Dinkelscherben-Zusmarshausen - ECPv6.15.20//NONSGML v1.0//EN
CALSCALE:GREGORIAN
METHOD:PUBLISH
X-WR-CALNAME:Imkerverein Dinkelscherben-Zusmarshausen
X-ORIGINAL-URL:https://imker-dinkel-zus.de
X-WR-CALDESC:Veranstaltungen für Imkerverein Dinkelscherben-Zusmarshausen
REFRESH-INTERVAL;VALUE=DURATION:PT1H
X-Robots-Tag:noindex
X-PUBLISHED-TTL:PT1H
BEGIN:VTIMEZONE
TZID:UTC
BEGIN:STANDARD
TZOFFSETFROM:+0000
TZOFFSETTO:+0000
TZNAME:UTC
DTSTART:20220101T000000
END:STANDARD
END:VTIMEZONE
BEGIN:VEVENT
DTSTART;TZID=UTC:20230617T120000
DTEND;TZID=UTC:20230617T170000
DTSTAMP:20260423T144151
CREATED:20230511T071737Z
LAST-MODIFIED:20230511T072110Z
UID:283-1687003200-1687021200@imker-dinkel-zus.de
SUMMARY:Sommerfest
DESCRIPTION:Einladung zum Sommerfest  \nSamstag 17.06.2023\, 12 Uhr \nAlte Schule in Anried\, \nAnostr. 6\, 86424 Dinkelscherben\, Anried \nDer Imkerverein lädt die Mitglieder des Imkervereins mit Familie recht herzlich zum Sommerfest ein. \nFür Essen und Getränke wird gesorgt. \nAnschließend wird Kaffee serviert\, dafür wird um Kuchenspenden gebeten. \nZur besseren Planung bitten wir um Rückmeldung mit Personenanzahl bis spätestens 03.06.2023 an \nBernhard Streit\, streit.bernhard (at) web.de\, 0160 97671378 . \nZusätzlich besteht die Möglichkeit zur Abgabe von Wachs- und Honigproben\, siehe TGD Bayern. \n  \nZusätzlich wird es die Möglichkeit zur Bestellung von Futtermitteln geben. \n  \nWir freuen uns auf euer zahlreiches Kommen \nDie Vorstandschaft
URL:https://imker-dinkel-zus.de/event/sommerfest/
LOCATION:Alte Schule\, Anried\, Anostr. 6\, Anried\, 86424
END:VEVENT
END:VCALENDAR