BEGIN:VCALENDAR
VERSION:2.0
PRODID:-//Imkerverein Dinkelscherben-Zusmarshausen - ECPv6.15.20//NONSGML v1.0//EN
CALSCALE:GREGORIAN
METHOD:PUBLISH
X-WR-CALNAME:Imkerverein Dinkelscherben-Zusmarshausen
X-ORIGINAL-URL:https://imker-dinkel-zus.de
X-WR-CALDESC:Veranstaltungen für Imkerverein Dinkelscherben-Zusmarshausen
REFRESH-INTERVAL;VALUE=DURATION:PT1H
X-Robots-Tag:noindex
X-PUBLISHED-TTL:PT1H
BEGIN:VTIMEZONE
TZID:UTC
BEGIN:STANDARD
TZOFFSETFROM:+0000
TZOFFSETTO:+0000
TZNAME:UTC
DTSTART:20240101T000000
END:STANDARD
END:VTIMEZONE
BEGIN:VEVENT
DTSTART;TZID=UTC:20251130T140000
DTEND;TZID=UTC:20251130T163000
DTSTAMP:20260421T125441
CREATED:20250809T072605Z
LAST-MODIFIED:20251007T052109Z
UID:474-1764511200-1764520200@imker-dinkel-zus.de
SUMMARY:Herbstversammlung 2025
DESCRIPTION:Die Herbstversammlung des Imkervereins Dinkelscherben-Zusmarshausen e.V. findet am 30.11.25 ab 14:00 Uhr im Pfarrzentrum Dinkelscherben statt. \nAdresse: Auer Kirchweg 2\, 86424 Dinkelscherben \n  \nTagesordnung \n\nBegrüßung\nVortrag von Bienenfachberater Johann Fischer: Varroatoleranzzucht – Chancen für den Imker mit Praxistipps für die erfolgreiche Umsetzung\n\n  \nHinweise: \n\nDer Imkerverein wird zu Beginn des Jahres 2026 wieder einen Einsteigerkurs “Imker auf Probe” durchführen. Interessierte sind herzlich zur Herbstversammlung sowie zur Probeimker-Infoveranstaltung am 25.11.25 eigeladen.\nAuch alle interessierten Nichtvereinsmitglieder sind herzlich zur Herbstversammlung eingeladen.\n\n  \nDie Vorstandschaft
URL:https://imker-dinkel-zus.de/event/herbstversammlung-2025/
LOCATION:Pfarrzentrum Dinkelscherben\, Auer Kirchweg 2\, Dinkelscherben\, Deutschland
END:VEVENT
END:VCALENDAR