BEGIN:VCALENDAR
VERSION:2.0
PRODID:-//Imkerverein Dinkelscherben-Zusmarshausen - ECPv6.15.20//NONSGML v1.0//EN
CALSCALE:GREGORIAN
METHOD:PUBLISH
X-WR-CALNAME:Imkerverein Dinkelscherben-Zusmarshausen
X-ORIGINAL-URL:https://imker-dinkel-zus.de
X-WR-CALDESC:Veranstaltungen für Imkerverein Dinkelscherben-Zusmarshausen
REFRESH-INTERVAL;VALUE=DURATION:PT1H
X-Robots-Tag:noindex
X-PUBLISHED-TTL:PT1H
BEGIN:VTIMEZONE
TZID:UTC
BEGIN:STANDARD
TZOFFSETFROM:+0000
TZOFFSETTO:+0000
TZNAME:UTC
DTSTART:20240101T000000
END:STANDARD
END:VTIMEZONE
BEGIN:VEVENT
DTSTART;TZID=UTC:20250604T180000
DTEND;TZID=UTC:20250604T190000
DTSTAMP:20260421T212512
CREATED:20250318T081038Z
LAST-MODIFIED:20250318T081038Z
UID:455-1749060000-1749063600@imker-dinkel-zus.de
SUMMARY:Imkerstammtisch 06/2025
DESCRIPTION:
URL:https://imker-dinkel-zus.de/event/imkerstammtisch-06-2025/
LOCATION:Vereinsheim der Imker\, Wertinger Str. 12\, Zusmarshausen\, 86441
END:VEVENT
END:VCALENDAR