BEGIN:VCALENDAR
VERSION:2.0
PRODID:-//Imkerverein Dinkelscherben-Zusmarshausen - ECPv6.15.20//NONSGML v1.0//EN
CALSCALE:GREGORIAN
METHOD:PUBLISH
X-WR-CALNAME:Imkerverein Dinkelscherben-Zusmarshausen
X-ORIGINAL-URL:https://imker-dinkel-zus.de
X-WR-CALDESC:Veranstaltungen für Imkerverein Dinkelscherben-Zusmarshausen
REFRESH-INTERVAL;VALUE=DURATION:PT1H
X-Robots-Tag:noindex
X-PUBLISHED-TTL:PT1H
BEGIN:VTIMEZONE
TZID:UTC
BEGIN:STANDARD
TZOFFSETFROM:+0000
TZOFFSETTO:+0000
TZNAME:UTC
DTSTART:20220101T000000
END:STANDARD
END:VTIMEZONE
BEGIN:VEVENT
DTSTART;TZID=UTC:20231105T140000
DTEND;TZID=UTC:20231105T160000
DTSTAMP:20260423T074713
CREATED:20231009T151026Z
LAST-MODIFIED:20231009T151258Z
UID:341-1699192800-1699200000@imker-dinkel-zus.de
SUMMARY:Herbstversammlung 2023
DESCRIPTION:Die Herbstversammlung des Imkervereins Dinkelscherben-Zusmarshausen e.V. findet am 05.11.23 ab 14:00 Uhr im Pfarrzentrum Dinkelscherben statt. \nAdresse: Auer Kirchweg 2\, 86424 Dinkelscherben \n  \nTagesordnung \n\nBegrüßung\nVortrag der Imkerei Klatt: „Betriebsweise und Vermarktungsaktivitäten eines Nebenerwerbsimkers“\n\n  \nHinweise: \n\nDer Imkerverein wird zu Beginn des Jahres 2024 wieder einen Ausbildungskurs “Imker auf Probe” durchführen. Interessierte sind herzlich zur Herbstversammlung eingeladen. Eine zusätzliche Informationsveranstaltung zu dieser Aktion folgt in Kürze.\nAuch alle interessierten Nichtvereinsmitglieder sind herzlich eingeladen.\n\n  \nDie Vorstandschaft
URL:https://imker-dinkel-zus.de/event/herbstversammlung-2023/
LOCATION:Pfarrzentrum Dinkelscherben\, Auer Kirchweg 2\, Dinkelscherben\, Deutschland
END:VEVENT
END:VCALENDAR